BEGIN:VCALENDAR
PRODID:-//github.com/rianjs/ical.net//NONSGML ical.net 4.0//EN
VERSION:2.0
BEGIN:VEVENT
DESCRIPTION:FAU inviterer til Trosterud-disco for 3. - 5. trinn.
DTEND:20161129T193000
DTSTAMP:20260424T163805Z
DTSTART:20161129T183000
LOCATION:Samlingssalen
SEQUENCE:0
SUMMARY:FAU inviterer til Trosterud-disco for 3. - 5. trinn.
UID:6c0930fe-32e4-491e-a4ad-d15bab8389b6
END:VEVENT
END:VCALENDAR
